BEGIN:VCALENDAR
VERSION:2.0
PRODID:-//The Soulful Stargazer LLC - ECPv6.15.20//NONSGML v1.0//EN
CALSCALE:GREGORIAN
METHOD:PUBLISH
X-ORIGINAL-URL:https://thesoulfulstargazer.com
X-WR-CALDESC:Events for The Soulful Stargazer LLC
REFRESH-INTERVAL;VALUE=DURATION:PT1H
X-Robots-Tag:noindex
X-PUBLISHED-TTL:PT1H
BEGIN:VTIMEZONE
TZID:America/Detroit
BEGIN:DAYLIGHT
TZOFFSETFROM:-0500
TZOFFSETTO:-0400
TZNAME:EDT
DTSTART:20220313T070000
END:DAYLIGHT
BEGIN:STANDARD
TZOFFSETFROM:-0400
TZOFFSETTO:-0500
TZNAME:EST
DTSTART:20221106T060000
END:STANDARD
BEGIN:DAYLIGHT
TZOFFSETFROM:-0500
TZOFFSETTO:-0400
TZNAME:EDT
DTSTART:20230312T070000
END:DAYLIGHT
BEGIN:STANDARD
TZOFFSETFROM:-0400
TZOFFSETTO:-0500
TZNAME:EST
DTSTART:20231105T060000
END:STANDARD
BEGIN:DAYLIGHT
TZOFFSETFROM:-0500
TZOFFSETTO:-0400
TZNAME:EDT
DTSTART:20240310T070000
END:DAYLIGHT
BEGIN:STANDARD
TZOFFSETFROM:-0400
TZOFFSETTO:-0500
TZNAME:EST
DTSTART:20241103T060000
END:STANDARD
END:VTIMEZONE
BEGIN:VEVENT
DTSTART;TZID=America/Detroit:20231008T070000
DTEND;TZID=America/Detroit:20231008T130000
DTSTAMP:20260419T120337
CREATED:20230622T023038Z
LAST-MODIFIED:20230911T062307Z
UID:2917-1696748400-1696770000@thesoulfulstargazer.com
SUMMARY:Witches Day Out - Port Huron
DESCRIPTION:    Witches Day Out – Port Huron  \nGrab your Witches Hat & Broomstick and join us\nSunday\, October 8th\, 2023 from 11:00am-5:00pm and let your Inner Witch FLY!\nOfficial Event Link; fb.me/e/1m37xjMma\nIt will be a Spook-tacular time with Magical shopping with our & !\nShop crystals\, herbs\, tarot cards\, incense\, essential oils\, brooms\, hats\, and TONS of witchy wares!\n  & ! \nPractice at home! Click this link for a step-by-step video: youtube.com/watch?v=1-uv-hAEQRM\nPalm Readers\, Medium’s or a healing from one of our holistic healers\, reiki healers & More! (Readings & Healing Sessions starting at just $20!)\n Wear your Witches Hat for an extra ticket into our GRAND PRIZE Giveaway!!! AND WITCH HAT CONTEST @ 4PM!\n– Most Glamorous\n– Most Unique\n– Most ScaryALL AGES WELCOME!!!! \n\nWITCHY WORKSHOPS — PORT HURON 10/8 To Be Announced! \nPlease contact us if you’d like to run a witchy workshop during our event @ WitchesWeekend@gmail.com\nSo grab your ghoul-friends and come have some FUN! Be sure to share this event with your Best Witches and get ready to have a Ghastly Good time! Here is the facebook link; fb.me/e/1m37xjMma\n***Food and Beverage available for purchase at the Eagles Restaurant & Bar\, as well as local food trucks!\n  : @ WitchesWeekend.com/vendorform\nOfficial Event Link; fb.me/e/1m37xjMma
URL:https://thesoulfulstargazer.com/event/witches-day-out/
LOCATION:Fraternal Order of the Eagles\, 2645 Howard St\, Port Huron\, MI\, 48060\, United States
CATEGORIES:Psychic Faires
END:VEVENT
END:VCALENDAR