BEGIN:VCALENDAR
VERSION:2.0
PRODID:-//The Soulful Stargazer LLC - ECPv6.15.20//NONSGML v1.0//EN
CALSCALE:GREGORIAN
METHOD:PUBLISH
X-WR-CALNAME:The Soulful Stargazer LLC
X-ORIGINAL-URL:https://thesoulfulstargazer.com
X-WR-CALDESC:Events for The Soulful Stargazer LLC
REFRESH-INTERVAL;VALUE=DURATION:PT1H
X-Robots-Tag:noindex
X-PUBLISHED-TTL:PT1H
BEGIN:VTIMEZONE
TZID:America/Detroit
BEGIN:DAYLIGHT
TZOFFSETFROM:-0500
TZOFFSETTO:-0400
TZNAME:EDT
DTSTART:20210314T070000
END:DAYLIGHT
BEGIN:STANDARD
TZOFFSETFROM:-0400
TZOFFSETTO:-0500
TZNAME:EST
DTSTART:20211107T060000
END:STANDARD
BEGIN:DAYLIGHT
TZOFFSETFROM:-0500
TZOFFSETTO:-0400
TZNAME:EDT
DTSTART:20220313T070000
END:DAYLIGHT
BEGIN:STANDARD
TZOFFSETFROM:-0400
TZOFFSETTO:-0500
TZNAME:EST
DTSTART:20221106T060000
END:STANDARD
BEGIN:DAYLIGHT
TZOFFSETFROM:-0500
TZOFFSETTO:-0400
TZNAME:EDT
DTSTART:20230312T070000
END:DAYLIGHT
BEGIN:STANDARD
TZOFFSETFROM:-0400
TZOFFSETTO:-0500
TZNAME:EST
DTSTART:20231105T060000
END:STANDARD
END:VTIMEZONE
BEGIN:VEVENT
DTSTART;TZID=America/Detroit:20221105T050000
DTEND;TZID=America/Detroit:20221105T140000
DTSTAMP:20260420T043745
CREATED:20220928T191952Z
LAST-MODIFIED:20220928T191952Z
UID:2332-1667624400-1667656800@thesoulfulstargazer.com
SUMMARY:Mid-Michigan Paranormal Convention
DESCRIPTION:THE WORLD OF THE PARANORMAL COMES TO LIFE IN MICHIGAN! FOR THE 5TH ANNUAL MID-MICHIGAN PARANORMAL CONVENTION!\nOUR CONVENTION FEATURES AN ENTIRE DAY PACKED WITH SPOOK-TACULAR SPEAKERS\, PRESENTERS\, DEMONSTRATORS\, AUTHORS\, ARTISTS\, PARANORMAL CELEBRITIES\, AND SO MUCH MORE! ALL BASED OUT OF THE NEED OF OUR LOCAL PARANORMAL COMMUNITY! \nGENERAL ADMISSION TICKETS: $55 • ADD-ON SPECIAL EVENTS: $25 • HAUNTED HALLS & MAGICKAL MARKETPLACE $5\n(Our Haunted Halls & Magickal Marketplace Psychic Fair & Shopping Bazaar is open to the Public — You DO NOT need a ParaCon Ticket to Attend our Haunted Halls fair!) \nSHOP FROM OVER 60 OTHERWORDLY VENDORS OF ALL KINDS! MICHIGAN’S BEST PSYCHICS\, MEDIUMS\, TAROT READERS\, PALMISTS\, REIKI HEALERS AND MORE! YOUR SPINE WILL TINGLE BROWSING CRYSTALS\, ODDITIES\, CURIOSITIES\, PARANORMAL BOOKS\, ART\, JEWELRY\, APPAREL\, AND MERCHANDISE! MEET LOCAL PARANORMAL TEMS\,  \n GHOSTS – BIGFOOT – HAUNTED OBJECTS – ALIENS – DEMONOLOGISTS – UFOLOGIST – OUIJA BOARDS – SPIRITUALITY – PSYCHIC READINGS – TAROT – MEDIUMS – MICHIGAN LORE – PRIVATE SEANCES – ODDITIES – GALLERY READINGS – ALL DAY SPEAKERS & PRESENTATIONS – PRIZES & GIVEAWAYS!\n  \n\n \,  \,  – :  : \nHeld @ Soaring Eagle Casino & Resort in Mount Pleasant\, Michigan!!!\n   .\,  \,  \nOfficial Event Page: fb.me/e/1iNbnECh4\n    &   –  –    –    –  &  –  –  –   –  –  –   –   –  –  –  –  –   –   –    –    &  –  –  –    !\nOur presenters come from all over the country\, right here to Mid-Michigan\, to deliver up-to-date research\, raw data\, discuss scientific studies\, video/audio evidence\, offer hands-on psychic galleries\, and share their experiences from all over the world! And if your spine starts to tingle\, head over to the Haunted Halls & Magickal Marketplace where 100+ unique vendors of oddities\, curiosities\, haunted items\, spiritual supplies\, sage\, crystals\, psychics\, tarot readers\, mediums\, authors\, paranormal investigators\, radio personalities\, artists\, and MORE display their wares and share their stories!
URL:https://thesoulfulstargazer.com/event/mid-michigan-paranormal-convention/
LOCATION:Soaring Eagle Casino\, 6800 E. Soaring Eagle Blvd\, Mt Pleasant\, MI\, 48858\, United States
ORGANIZER;CN="Mid-Michigan Paranormal Convention":MAILTO:midmichparacon@gmail.com
END:VEVENT
END:VCALENDAR