BEGIN:VCALENDAR
VERSION:2.0
PRODID:-//The Soulful Stargazer LLC - ECPv6.15.20//NONSGML v1.0//EN
CALSCALE:GREGORIAN
METHOD:PUBLISH
X-ORIGINAL-URL:https://thesoulfulstargazer.com
X-WR-CALDESC:Events for The Soulful Stargazer LLC
REFRESH-INTERVAL;VALUE=DURATION:PT1H
X-Robots-Tag:noindex
X-PUBLISHED-TTL:PT1H
BEGIN:VTIMEZONE
TZID:America/Detroit
BEGIN:DAYLIGHT
TZOFFSETFROM:-0500
TZOFFSETTO:-0400
TZNAME:EDT
DTSTART:20210314T070000
END:DAYLIGHT
BEGIN:STANDARD
TZOFFSETFROM:-0400
TZOFFSETTO:-0500
TZNAME:EST
DTSTART:20211107T060000
END:STANDARD
BEGIN:DAYLIGHT
TZOFFSETFROM:-0500
TZOFFSETTO:-0400
TZNAME:EDT
DTSTART:20220313T070000
END:DAYLIGHT
BEGIN:STANDARD
TZOFFSETFROM:-0400
TZOFFSETTO:-0500
TZNAME:EST
DTSTART:20221106T060000
END:STANDARD
BEGIN:DAYLIGHT
TZOFFSETFROM:-0500
TZOFFSETTO:-0400
TZNAME:EDT
DTSTART:20230312T070000
END:DAYLIGHT
BEGIN:STANDARD
TZOFFSETFROM:-0400
TZOFFSETTO:-0500
TZNAME:EST
DTSTART:20231105T060000
END:STANDARD
END:VTIMEZONE
BEGIN:VEVENT
DTSTART;TZID=America/Detroit:20221001T060000
DTEND;TZID=America/Detroit:20221001T130000
DTSTAMP:20260420T061603
CREATED:20220808T232239Z
LAST-MODIFIED:20220808T232441Z
UID:2200-1664604000-1664629200@thesoulfulstargazer.com
SUMMARY:Psychic Fair at the TriCity Sports Complex
DESCRIPTION:Join us for a day filled with Good Vibes\, Reiki\, Energy Work\, Readers\, Crafts\, Food\, Shopping and more! \nThe Soulful Stargazer LLC will be there\, with our Holistic products and giving Healing and Empowering Readings! \nEntry Fee: Youth NEW or GENTLY USED Winter Accessories or Monetary Donation
URL:https://thesoulfulstargazer.com/event/psychic-fair-at-the-tricity-sports-complex/
LOCATION:Tri City Sports Complex\, 5117 Garfield Road\, Auburn\, MI\, 48611\, United States
CATEGORIES:Psychic Faires
END:VEVENT
BEGIN:VEVENT
DTSTART;TZID=America/Detroit:20221008T070000
DTEND;TZID=America/Detroit:20221008T140000
DTSTAMP:20260420T061603
CREATED:20220518T043358Z
LAST-MODIFIED:20220928T190533Z
UID:1965-1665212400-1665237600@thesoulfulstargazer.com
SUMMARY:The Soulful Stargazer\, LLC at {October} Tranquil Spirits!
DESCRIPTION:Come enjoy the beautiful energies of Wild Wind and get a reading from The Soulful Stargazer\, LLC!\nFind us in the Gnome Village under the Stars ✨ But make sure you also check out the Elven Bazaar and Unicorn’s Lair to shop with other vendors and learn about and experience alternative healing practices like Reiki\, Theta Healing Technique\, Mindfulness Walking and more! There will also be a Kid’s Zone with games and activities!\n$5 donation to Wild Wind to enter – Kids 10 and under are free!
URL:https://thesoulfulstargazer.com/event/the-soulful-stargazer-llc-at-october-tranquil-spirits/
LOCATION:Wild Wind Sanctuary\, 1868 Wyatt Road\, Standish\, MI\, 48658\, United States
CATEGORIES:Psychic Faires
ATTACH;FMTTYPE=image/jpeg:https://thesoulfulstargazer.com/wp-content/uploads/2022/05/booth.jpg
END:VEVENT
BEGIN:VEVENT
DTSTART;TZID=America/Detroit:20221020T150000
DTEND;TZID=America/Detroit:20221020T180000
DTSTAMP:20260420T061603
CREATED:20220928T191327Z
LAST-MODIFIED:20220928T191327Z
UID:2328-1666278000-1666288800@thesoulfulstargazer.com
SUMMARY:Witches and Warlocks Night Out
DESCRIPTION:Join us for a spooky night out to benefit the Down Right Awesome Modified Race for 2023!\nBingo\nSpirits \ncostume contests\nHearses \n shopping! \nEvent Info: https://www.facebook.com/events/1713976742301192/?active_tab=discussion\nPurchase Tickets: https://www.birchrunevents.com/tix/show/120/?fbclid=IwAR3XLkl3rHP2HbVC4D4rk6RMs5eCKfNevlwC46PPd-gjpiunI8mHeV2dkys
URL:https://thesoulfulstargazer.com/event/witches-and-warlocks-night-out/
LOCATION:Birch Run Speedway\, 10945 Dixie Hwy\, Birch Run\, MI\, 48415\, United States
ORGANIZER;CN="Racing for Miracles":MAILTO:racingformiracles1@yahoo.com
END:VEVENT
END:VCALENDAR