BEGIN:VCALENDAR
VERSION:2.0
PRODID:-//The Soulful Stargazer LLC - ECPv6.15.20//NONSGML v1.0//EN
CALSCALE:GREGORIAN
METHOD:PUBLISH
X-ORIGINAL-URL:https://thesoulfulstargazer.com
X-WR-CALDESC:Events for The Soulful Stargazer LLC
REFRESH-INTERVAL;VALUE=DURATION:PT1H
X-Robots-Tag:noindex
X-PUBLISHED-TTL:PT1H
BEGIN:VTIMEZONE
TZID:America/Detroit
BEGIN:DAYLIGHT
TZOFFSETFROM:-0500
TZOFFSETTO:-0400
TZNAME:EDT
DTSTART:20210314T070000
END:DAYLIGHT
BEGIN:STANDARD
TZOFFSETFROM:-0400
TZOFFSETTO:-0500
TZNAME:EST
DTSTART:20211107T060000
END:STANDARD
BEGIN:DAYLIGHT
TZOFFSETFROM:-0500
TZOFFSETTO:-0400
TZNAME:EDT
DTSTART:20220313T070000
END:DAYLIGHT
BEGIN:STANDARD
TZOFFSETFROM:-0400
TZOFFSETTO:-0500
TZNAME:EST
DTSTART:20221106T060000
END:STANDARD
BEGIN:DAYLIGHT
TZOFFSETFROM:-0500
TZOFFSETTO:-0400
TZNAME:EDT
DTSTART:20230312T070000
END:DAYLIGHT
BEGIN:STANDARD
TZOFFSETFROM:-0400
TZOFFSETTO:-0500
TZNAME:EST
DTSTART:20231105T060000
END:STANDARD
END:VTIMEZONE
BEGIN:VEVENT
DTSTART;TZID=America/Detroit:20221001T060000
DTEND;TZID=America/Detroit:20221001T130000
DTSTAMP:20260420T075106
CREATED:20220808T232239Z
LAST-MODIFIED:20220808T232441Z
UID:2200-1664604000-1664629200@thesoulfulstargazer.com
SUMMARY:Psychic Fair at the TriCity Sports Complex
DESCRIPTION:Join us for a day filled with Good Vibes\, Reiki\, Energy Work\, Readers\, Crafts\, Food\, Shopping and more! \nThe Soulful Stargazer LLC will be there\, with our Holistic products and giving Healing and Empowering Readings! \nEntry Fee: Youth NEW or GENTLY USED Winter Accessories or Monetary Donation
URL:https://thesoulfulstargazer.com/event/psychic-fair-at-the-tricity-sports-complex/
LOCATION:Tri City Sports Complex\, 5117 Garfield Road\, Auburn\, MI\, 48611\, United States
CATEGORIES:Psychic Faires
END:VEVENT
END:VCALENDAR