BEGIN:VCALENDAR
VERSION:2.0
PRODID:-//The Soulful Stargazer LLC - ECPv6.15.20//NONSGML v1.0//EN
CALSCALE:GREGORIAN
METHOD:PUBLISH
X-ORIGINAL-URL:https://thesoulfulstargazer.com
X-WR-CALDESC:Events for The Soulful Stargazer LLC
REFRESH-INTERVAL;VALUE=DURATION:PT1H
X-Robots-Tag:noindex
X-PUBLISHED-TTL:PT1H
BEGIN:VTIMEZONE
TZID:America/Detroit
BEGIN:DAYLIGHT
TZOFFSETFROM:-0500
TZOFFSETTO:-0400
TZNAME:EDT
DTSTART:20210314T070000
END:DAYLIGHT
BEGIN:STANDARD
TZOFFSETFROM:-0400
TZOFFSETTO:-0500
TZNAME:EST
DTSTART:20211107T060000
END:STANDARD
BEGIN:DAYLIGHT
TZOFFSETFROM:-0500
TZOFFSETTO:-0400
TZNAME:EDT
DTSTART:20220313T070000
END:DAYLIGHT
BEGIN:STANDARD
TZOFFSETFROM:-0400
TZOFFSETTO:-0500
TZNAME:EST
DTSTART:20221106T060000
END:STANDARD
BEGIN:DAYLIGHT
TZOFFSETFROM:-0500
TZOFFSETTO:-0400
TZNAME:EDT
DTSTART:20230312T070000
END:DAYLIGHT
BEGIN:STANDARD
TZOFFSETFROM:-0400
TZOFFSETTO:-0500
TZNAME:EST
DTSTART:20231105T060000
END:STANDARD
END:VTIMEZONE
BEGIN:VEVENT
DTSTART;TZID=America/Detroit:20220911T070000
DTEND;TZID=America/Detroit:20220911T140000
DTSTAMP:20260420T092510
CREATED:20220518T043233Z
LAST-MODIFIED:20220518T043418Z
UID:1963-1662879600-1662904800@thesoulfulstargazer.com
SUMMARY:The Soulful Stargazer\, LLC at {September} Tranquil Spirits!
DESCRIPTION:Come enjoy the beautiful energies of Wild Wind and get a reading from The Soulful Stargazer\, LLC!\nFind us in the Gnome Village under the Stars ✨ But make sure you also check out the Elven Bazaar and Unicorn’s Lair to shop with other vendors and learn about and experience alternative healing practices like Reiki\, Theta Healing Technique\, Mindfulness Walking and more! There will also be a Kid’s Zone with games and activities!\n$5 donation to Wild Wind to enter – Kids 10 and under are free!
URL:https://thesoulfulstargazer.com/event/september-tranquil-spirits/
LOCATION:Wild Wind Sanctuary\, 1868 Wyatt Road\, Standish\, MI\, 48658\, United States
CATEGORIES:Psychic Faires
ATTACH;FMTTYPE=image/jpeg:https://thesoulfulstargazer.com/wp-content/uploads/2022/05/booth.jpg
END:VEVENT
END:VCALENDAR