BEGIN:VCALENDAR
VERSION:2.0
PRODID:-//The Soulful Stargazer LLC - ECPv6.15.20//NONSGML v1.0//EN
CALSCALE:GREGORIAN
METHOD:PUBLISH
X-WR-CALNAME:The Soulful Stargazer LLC
X-ORIGINAL-URL:https://thesoulfulstargazer.com
X-WR-CALDESC:Events for The Soulful Stargazer LLC
REFRESH-INTERVAL;VALUE=DURATION:PT1H
X-Robots-Tag:noindex
X-PUBLISHED-TTL:PT1H
BEGIN:VTIMEZONE
TZID:America/Detroit
BEGIN:DAYLIGHT
TZOFFSETFROM:-0500
TZOFFSETTO:-0400
TZNAME:EDT
DTSTART:20210314T070000
END:DAYLIGHT
BEGIN:STANDARD
TZOFFSETFROM:-0400
TZOFFSETTO:-0500
TZNAME:EST
DTSTART:20211107T060000
END:STANDARD
BEGIN:DAYLIGHT
TZOFFSETFROM:-0500
TZOFFSETTO:-0400
TZNAME:EDT
DTSTART:20220313T070000
END:DAYLIGHT
BEGIN:STANDARD
TZOFFSETFROM:-0400
TZOFFSETTO:-0500
TZNAME:EST
DTSTART:20221106T060000
END:STANDARD
BEGIN:DAYLIGHT
TZOFFSETFROM:-0500
TZOFFSETTO:-0400
TZNAME:EDT
DTSTART:20230312T070000
END:DAYLIGHT
BEGIN:STANDARD
TZOFFSETFROM:-0400
TZOFFSETTO:-0500
TZNAME:EST
DTSTART:20231105T060000
END:STANDARD
END:VTIMEZONE
BEGIN:VEVENT
DTSTART;TZID=America/Detroit:20220716T060000
DTEND;TZID=America/Detroit:20220716T130000
DTSTAMP:20260420T122311
CREATED:20220425T192738Z
LAST-MODIFIED:20220518T035458Z
UID:1915-1657951200-1657976400@thesoulfulstargazer.com
SUMMARY:The Soulful Stargazer\, LLC at Psychic/Holistic Fair
DESCRIPTION:Do you need a relaxing day from your busy summer or just some self care?! Join us from 10am – 5 pm for a day of Soul Blueprints with The Soulful Stargazer\, self care\, positive vibes\, energy healing\, massage\, Reiki\, palmistry\, oracle and tarot readings\, crystals\, baked goods\, many items from our very talented crafters\, and much more!!!\nEntry Fee: Please help us support River Jordan with a nonperishable or monetary donation. River Jordan is a local nonprofit organization that provides services for current and former foster youth regardless of age. They offer peer mentorship and support\, life skill training\, relationship building\, and transitional housing.
URL:https://thesoulfulstargazer.com/event/psychic-holistic-fair/
LOCATION:Bay County Fairgrounds\, 810 Livingston St\, Bay City\, MI\, 48708-6380\, United States
CATEGORIES:Psychic Faires
END:VEVENT
END:VCALENDAR